BEGIN:VCALENDAR
PRODID:-//PUBBLE//agenda//NL
VERSION:2.0
METHOD:PUBLISH
BEGIN:VEVENT
DTSTART:20260102T090000Z
DTEND:20261231T090400Z
DTSTAMP:20260424T135131Z
UID:731698b8-4784-4017-89c5-f2e300233640
CREATED:20260424T135131Z
NAME:Grensverlegger van Houten weespernieuws.nl
X-WR-CALNAME:Grensverlegger van Houten
X-ALT-DESC;FMTTYPE=text/html:<a href='/agenda/2026/1/2/grensverlegger-van-houten-330899'>/agenda/2026/1/2/grensverlegger-van-houten-330899</a> || <p>Grensverlegger van Houten - Wereldmerk Chocolade uit Weesp (doorlopend).&nbsp;</p><p>BEST &amp; GOES FARTHEST Met deze slogan verkocht chocolademaker Van Houten ver over de grens van Weesp, van Nederland, ver buiten Europa, zelfs over de hele wereld zijn heerlijke bonbons, chocoladerepen en cacaopoeder.&nbsp;</p><p>Museum Weesp brengt dit succesverhaal in beeld met prachtige kleurrijke affiches en bonbondozen, vaak ontworpen door toonaangevende kunstenaars en vormgevers als Willy Sluiter en Johan Briedé. Van Houten was (en is: het merk is razend populair in Azië) zeer vooruitstrevend in zijn reclamecampagnes, de chocolademaker liep voorop met het gebruik van de nieuwste technieken. Er werd ook reclame gemaakt met blijspelen voor in het theater en pauzefilmpjes voor in de bioscoop. In de tentoonstelling is de allereerste reclamefilm uit het jaar 1899 te zien, hierin springt een zieke ambtenaar vol levenslust uit bed, na het drinken van Van Houten cacao. Daarnaast ziet u hedendaagse tv-commercials uit Azië.</p><p>Bezoek Museum Weesp en verwonder u over de kleurenpracht en inventiviteit waarmee Van Houten de wereld veroverde met zijn heerlijke cacao.</p><p>Maar laten we eerlijk zijn, chocolade is natuurlijk ook gewoon lekker!</p>
DESCRIPTION:<a href='/agenda/2026/1/2/grensverlegger-van-houten-330899'>/agenda/2026/1/2/grensverlegger-van-houten-330899</a> || <p>Grensverlegger van Houten - Wereldmerk Chocolade uit Weesp (doorlopend).&nbsp;</p><p>BEST &amp; GOES FARTHEST Met deze slogan verkocht chocolademaker Van Houten ver over de grens van Weesp, van Nederland, ver buiten Europa, zelfs over de hele wereld zijn heerlijke bonbons, chocoladerepen en cacaopoeder.&nbsp;</p><p>Museum Weesp brengt dit succesverhaal in beeld met prachtige kleurrijke affiches en bonbondozen, vaak ontworpen door toonaangevende kunstenaars en vormgevers als Willy Sluiter en Johan Briedé. Van Houten was (en is: het merk is razend populair in Azië) zeer vooruitstrevend in zijn reclamecampagnes, de chocolademaker liep voorop met het gebruik van de nieuwste technieken. Er werd ook reclame gemaakt met blijspelen voor in het theater en pauzefilmpjes voor in de bioscoop. In de tentoonstelling is de allereerste reclamefilm uit het jaar 1899 te zien, hierin springt een zieke ambtenaar vol levenslust uit bed, na het drinken van Van Houten cacao. Daarnaast ziet u hedendaagse tv-commercials uit Azië.</p><p>Bezoek Museum Weesp en verwonder u over de kleurenpracht en inventiviteit waarmee Van Houten de wereld veroverde met zijn heerlijke cacao.</p><p>Maar laten we eerlijk zijn, chocolade is natuurlijk ook gewoon lekker!</p>
LAST-MODIFIED:20260424T135131Z
LOCATION: Museum Weesp, Nieuwstraat 41 | Nieuwstraat 41 Weesp
SEQUENCE:0
STATUS:CONFIRMED
SUMMARY:Grensverlegger van Houten
TRANSP:OPAQUE
END:VEVENT
END:VCALENDAR
