BEGIN:VCALENDAR
PRODID:-//PUBBLE//agenda//NL
VERSION:2.0
METHOD:PUBLISH
BEGIN:VEVENT
DTSTART:20260102T090000Z
DTEND:20261231T091000Z
DTSTAMP:20260424T133705Z
UID:c9616340-d8d9-4117-bcd1-b53eda297a1c
CREATED:20260424T133705Z
NAME:Expo Weesper Porselein weespernieuws.nl
X-WR-CALNAME:Expo Weesper Porselein
X-ALT-DESC;FMTTYPE=text/html:<a href='/agenda/2026/1/2/expo-weesper-porselein-330900'>/agenda/2026/1/2/expo-weesper-porselein-330900</a> || <p>Weesper Porselein, door handen uit andere landen&nbsp;</p><p>Porselein staat in de 18e eeuw symbool voor een wereld van geheime recepten, rondreizende kunstenaars, exotische vogels, mysterieuze chinoiserieën en overweldigende rococo. Voorwerpen van porselein zijn geliefd als ultieme pronkstukken en alleen betaalbaar voor de allerrijksten.</p><p>Hoe kan het, dat het vroegste Hollands porselein nu juist in Weesp is gemaakt?</p><p>Hoe kan het, dat een kleine fabriek zulke extravagante sierstukken heeft geproduceerd?</p><p>Ontdek dit bijzondere verhaal in Museum Weesp en bewonder het prachtige Weesper porselein, een hoogtepunt van technisch en artistiek menselijk kunnen.</p>
DESCRIPTION:<a href='/agenda/2026/1/2/expo-weesper-porselein-330900'>/agenda/2026/1/2/expo-weesper-porselein-330900</a> || <p>Weesper Porselein, door handen uit andere landen&nbsp;</p><p>Porselein staat in de 18e eeuw symbool voor een wereld van geheime recepten, rondreizende kunstenaars, exotische vogels, mysterieuze chinoiserieën en overweldigende rococo. Voorwerpen van porselein zijn geliefd als ultieme pronkstukken en alleen betaalbaar voor de allerrijksten.</p><p>Hoe kan het, dat het vroegste Hollands porselein nu juist in Weesp is gemaakt?</p><p>Hoe kan het, dat een kleine fabriek zulke extravagante sierstukken heeft geproduceerd?</p><p>Ontdek dit bijzondere verhaal in Museum Weesp en bewonder het prachtige Weesper porselein, een hoogtepunt van technisch en artistiek menselijk kunnen.</p>
LAST-MODIFIED:20260424T133705Z
LOCATION: Museum Weesp, Nieuwstraat 41 | Nieuwstraat 41 Weesp
SEQUENCE:0
STATUS:CONFIRMED
SUMMARY:Expo Weesper Porselein
TRANSP:OPAQUE
END:VEVENT
END:VCALENDAR
