BEGIN:VCALENDAR
PRODID:-//PUBBLE//agenda//NL
VERSION:2.0
METHOD:PUBLISH
BEGIN:VEVENT
DTSTART:20250615T140000Z
DTEND:20250615T151500Z
DTSTAMP:20260423T155924Z
UID:67fe5093-9f37-4924-a1c9-03bfadf872e2
CREATED:20260423T155924Z
NAME:zomerconcert GSO en GJO weespernieuws.nl
X-WR-CALNAME:zomerconcert GSO en GJO
X-ALT-DESC;FMTTYPE=text/html:<a href='/agenda/2025/6/15/zomerconcert-gso-en-gjo-355375'>/agenda/2025/6/15/zomerconcert-gso-en-gjo-355375</a> || <p>Musici van 8 tot 80 jaar! Het Goois Symfonie Orkest en het Goois Jeugd Orkest geven samen een bijzonder concert. Onder leiding van Joost Gevers en Marcel Geraeds&nbsp;</p><p>Trepak uit Tsjaikovski’s Notenkrakersuite</p><p>Danse Macabre van Saint-Saëns</p><p>An American in Paris van Gershwin</p><p>Pirates of the Caribbean van Badelt</p>
DESCRIPTION:<a href='/agenda/2025/6/15/zomerconcert-gso-en-gjo-355375'>/agenda/2025/6/15/zomerconcert-gso-en-gjo-355375</a> || <p>Musici van 8 tot 80 jaar! Het Goois Symfonie Orkest en het Goois Jeugd Orkest geven samen een bijzonder concert. Onder leiding van Joost Gevers en Marcel Geraeds&nbsp;</p><p>Trepak uit Tsjaikovski’s Notenkrakersuite</p><p>Danse Macabre van Saint-Saëns</p><p>An American in Paris van Gershwin</p><p>Pirates of the Caribbean van Badelt</p>
LAST-MODIFIED:20260423T155924Z
LOCATION: MCO | Heuvellaan 33 Hilversum
SEQUENCE:0
STATUS:CONFIRMED
SUMMARY:zomerconcert GSO en GJO
TRANSP:OPAQUE
END:VEVENT
END:VCALENDAR
