BEGIN:VCALENDAR
PRODID:-//PUBBLE//agenda//NL
VERSION:2.0
METHOD:PUBLISH
BEGIN:VEVENT
DTSTART:20251113T100000Z
DTEND:20260104T140000Z
DTSTAMP:20260419T200920Z
UID:7b2d75b5-d859-403e-9150-6ea6e7d2be93
CREATED:20260419T200920Z
NAME:Händel in Naarden weespernieuws.nl
X-WR-CALNAME:Händel in Naarden
X-ALT-DESC;FMTTYPE=text/html:<a href='/agenda/2025/11/13/handel-in-naarden-364704'>/agenda/2025/11/13/handel-in-naarden-364704</a> || <p>Wegens succes verlengd: tentoonstelling <em>Händel in Naarden. Uit de collectie van Ton Koopman.&nbsp;</em>Unieke prenten, bijzondere handschriften en objecten, zelfs een waar klavecimbel uit Ton Koopmans eigen huis vertellen het verhaal van baroksuperster Georg Friedrich Händel. Meer info: www.comeniusmuseum.nl</p>
DESCRIPTION:<a href='/agenda/2025/11/13/handel-in-naarden-364704'>/agenda/2025/11/13/handel-in-naarden-364704</a> || <p>Wegens succes verlengd: tentoonstelling <em>Händel in Naarden. Uit de collectie van Ton Koopman.&nbsp;</em>Unieke prenten, bijzondere handschriften en objecten, zelfs een waar klavecimbel uit Ton Koopmans eigen huis vertellen het verhaal van baroksuperster Georg Friedrich Händel. Meer info: www.comeniusmuseum.nl</p>
LAST-MODIFIED:20260419T200920Z
LOCATION: Comenius Museum Naarden | Kloosterstraat 33 Naarden
SEQUENCE:0
STATUS:CONFIRMED
SUMMARY:Händel in Naarden
TRANSP:OPAQUE
END:VEVENT
END:VCALENDAR
