BEGIN:VCALENDAR
PRODID:-//PUBBLE//agenda//NL
VERSION:2.0
METHOD:PUBLISH
BEGIN:VEVENT
DTSTART:20260114T073000Z
DTEND:20261230T081800Z
DTSTAMP:20260421T003705Z
UID:7f39007e-c39a-4cb3-b770-22b4b2f2bbac
CREATED:20260421T003705Z
NAME:Administratie voor Elkaar weespernieuws.nl
X-WR-CALNAME:Administratie voor Elkaar
X-ALT-DESC;FMTTYPE=text/html:<a href='/agenda/2026/1/14/administratie-voor-elkaar-368350'>/agenda/2026/1/14/administratie-voor-elkaar-368350</a> || <p>Bij Administratie voor Elkaar van Versa Welzijn kunnen inwoners uit Weesp/Driemond gratis terecht met verschillende vragen. Het team helpt je met alles dat te maken heeft met administratie, formulieren, inkomen, toeslagen, voorzieningen, werk en meer.</p><p>Afspraak maken kan bij Esther Zweers 0657312499 </p>
DESCRIPTION:<a href='/agenda/2026/1/14/administratie-voor-elkaar-368350'>/agenda/2026/1/14/administratie-voor-elkaar-368350</a> || <p>Bij Administratie voor Elkaar van Versa Welzijn kunnen inwoners uit Weesp/Driemond gratis terecht met verschillende vragen. Het team helpt je met alles dat te maken heeft met administratie, formulieren, inkomen, toeslagen, voorzieningen, werk en meer.</p><p>Afspraak maken kan bij Esther Zweers 0657312499 </p>
LAST-MODIFIED:20260421T003705Z
LOCATION: De Roskam, Van Houten Industriepark 11B | Van Houten Industriepark 11B Weesp
SEQUENCE:0
STATUS:CONFIRMED
SUMMARY:Administratie voor Elkaar
TRANSP:OPAQUE
END:VEVENT
END:VCALENDAR
