BEGIN:VCALENDAR
PRODID:-//PUBBLE//agenda//NL
VERSION:2.0
METHOD:PUBLISH
BEGIN:VEVENT
DTSTART:20260216T111500Z
DTEND:20261026T115800Z
DTSTAMP:20260420T212750Z
UID:1329d7c1-f8f2-45f3-af3a-b931b4e8c1d6
CREATED:20260420T212750Z
NAME:Mantelzorg gespreksgroep weespernieuws.nl
X-WR-CALNAME:Mantelzorg gespreksgroep
X-ALT-DESC;FMTTYPE=text/html:<a href='/agenda/2026/2/16/mantelzorg-gespreksgroep-369412'>/agenda/2026/2/16/mantelzorg-gespreksgroep-369412</a> || <p>𝐔𝐢𝐭𝐧𝐨𝐝𝐢𝐠𝐢𝐧𝐠: Bent u mantelzorger voor iemand met dementie en zoekt u steun? Bij de gespreksgroep Dementie van Versa Welzijn Weesp kunt u in een veilige sfeer ervaringen en gevoelens delen met anderen die u begrijpen. Voor meer info kunt u terecht bij Susan Wognum tel:06-20311867</p>
DESCRIPTION:<a href='/agenda/2026/2/16/mantelzorg-gespreksgroep-369412'>/agenda/2026/2/16/mantelzorg-gespreksgroep-369412</a> || <p>𝐔𝐢𝐭𝐧𝐨𝐝𝐢𝐠𝐢𝐧𝐠: Bent u mantelzorger voor iemand met dementie en zoekt u steun? Bij de gespreksgroep Dementie van Versa Welzijn Weesp kunt u in een veilige sfeer ervaringen en gevoelens delen met anderen die u begrijpen. Voor meer info kunt u terecht bij Susan Wognum tel:06-20311867</p>
LAST-MODIFIED:20260420T212750Z
LOCATION: De Roskam, Van Houten Industriepark 11B | Van Houten Industriepark 11B Weesp
SEQUENCE:0
STATUS:CONFIRMED
SUMMARY:Mantelzorg gespreksgroep
TRANSP:OPAQUE
END:VEVENT
END:VCALENDAR
