BEGIN:VCALENDAR
PRODID:-//PUBBLE//agenda//NL
VERSION:2.0
METHOD:PUBLISH
BEGIN:VEVENT
DTSTART:20260425T180000Z
DTEND:20260525T200000Z
DTSTAMP:20260425T135105Z
UID:b2e41687-7519-4dde-b220-b2f6e14b17af
CREATED:20260425T135105Z
NAME:Niki Jacobs & Band weespernieuws.nl
X-WR-CALNAME:Niki Jacobs & Band
X-ALT-DESC;FMTTYPE=text/html:<a href='/agenda/2026/4/25/niki-jacobs-amp-band-373125'>/agenda/2026/4/25/niki-jacobs-amp-band-373125</a> || <p>Op de jaarlijkse herdenkingsavond in de Weesper Synagoge treedt dit jaar Niki Jacobs op met een bijzonder en nieuw muziekprogramma ‘The Front Porch Sessie’. Een mengeling van oude en nieuwe liederen zoals het Kol Nidrei en werk van Bob Dylan, waarin verleden en heden elkaar ontmoeten.</p>
DESCRIPTION:<a href='/agenda/2026/4/25/niki-jacobs-amp-band-373125'>/agenda/2026/4/25/niki-jacobs-amp-band-373125</a> || <p>Op de jaarlijkse herdenkingsavond in de Weesper Synagoge treedt dit jaar Niki Jacobs op met een bijzonder en nieuw muziekprogramma ‘The Front Porch Sessie’. Een mengeling van oude en nieuwe liederen zoals het Kol Nidrei en werk van Bob Dylan, waarin verleden en heden elkaar ontmoeten.</p>
LAST-MODIFIED:20260425T135105Z
LOCATION: Weesper Synagoge | Nieuwstraat 3 - 5 Weesp
SEQUENCE:0
STATUS:CONFIRMED
SUMMARY:Niki Jacobs & Band
TRANSP:OPAQUE
END:VEVENT
END:VCALENDAR
